BEGIN:VCALENDAR
VERSION:2.0
PRODID:-//ChamberMaster//Event Calendar 2.0//EN
METHOD:PUBLISH
X-PUBLISHED-TTL:P3D
REFRESH-INTERVAL:P3D
CALSCALE:GREGORIAN
BEGIN:VEVENT
DTSTART:20251217T160000Z
DTEND:20251217T170000Z
X-MICROSOFT-CDO-ALLDAYEVENT:FALSE
SUMMARY:Senior Solutions Exchange (a new group)
DESCRIPTION:Senior Solutions Exchange is a knowledge-sharing network that connects Bartlett Area Chamber member professionals\, caregivers\, and business partners to share insights\, resources\, and innovative approaches to supporting older adults and their families. We connect experts to improve the quality of life\, and independence\, creating a supportive network dedicated to helping older adults thrive. \nThis group offers a valuable opportunity to connect with others in your field as well as potential power partners. It's a collaborative space to share ideas\, learn from one another\, and strengthen the network of support surrounding our senior community.\n\n\nContact the Chamber office for more information.
X-ALT-DESC;FMTTYPE=text/html:<span style="font-size:18px\;"><span style="font-family:arial\;"><strong>Senior Solutions Exchange<strong> </strong><span style="font-weight:normal\;">is a knowledge-sharing network that connects Bartlett Area Chamber member professionals\, caregivers\, and business partners to share insights\, resources\, and innovative approaches to supporting older adults and their families. We connect experts to improve the quality of life\, and independence\, </span></strong>creating a supportive network dedicated to helping older adults thrive.&nbsp\;</span></span>\n<p><span style="font-size:18px\;"><span style="font-family:arial\;">This group offers a valuable opportunity to connect with others in your field&mdash\;as well as potential power partners. It&rsquo\;s a collaborative space to share ideas\, learn from one another\, and strengthen the network of support surrounding our senior community.</span></span><o:p></o:p></p>\n<br />\n<span style="font-family:arial\;"><span style="font-size:18px\;">Contact the Chamber office for more information.</span></span>
LOCATION:
UID:e.1147.4093
SEQUENCE:3
DTSTAMP:20260426T015251Z
URL:https://business.bartlettareachamber.com/events/details/senior-solutions-exchange-a-new-group-4093
END:VEVENT

END:VCALENDAR
