BEGIN:VCALENDAR
VERSION:2.0
PRODID:-//ChamberMaster//Event Calendar 2.0//EN
METHOD:PUBLISH
X-PUBLISHED-TTL:P3D
REFRESH-INTERVAL:P3D
CALSCALE:GREGORIAN
BEGIN:VEVENT
DTSTART:20240426T150000Z
DTEND:20240426T190000Z
X-MICROSOFT-CDO-ALLDAYEVENT:FALSE
SUMMARY:Senior Health & Wellness Fair
DESCRIPTION:EVENT OFFERED BY ELGIN COMMUNITY COLLEGE:\n\nPrioritize your well-being\, and we'll see you at the Senior Health & Wellness Fair this spring! This free community event welcomes older adults - from wellness warriors to those beginning a journey toward a healthier lifestyle and everyone in between - as well as those who love or provide care for older adults. The day features:\n\n	Complimentary health screenings for blood pressure\, cholesterol and glucose levels\n	Dietary and nutrition consultations\n	Service agencies and organizations offering services for aging adults\n	Educational sessions - navigating healthcare resources\, preventive care and more\n	Connect with local senior clubs\, support groups and community organizations\n	More information and details coming soon!
X-ALT-DESC;FMTTYPE=text/html:<span style="font-family:arial\;"><span style="font-size: 16px\;"><strong>EVENT OFFERED BY ELGIN COMMUNITY COLLEGE:</strong><br />\nPrioritize your well-being\, and we&rsquo\;ll see you at the Senior Health &amp\; Wellness Fair this spring! This free community event welcomes older adults - from wellness warriors to those beginning a journey toward a healthier lifestyle and everyone in between - as well as those who love or provide care for older adults. The day features:</span></span>\n<ul>\n	<li><span style="font-family:arial\;"><span style="font-size:16px">Complimentary health screenings for blood pressure\, cholesterol and glucose levels</span></span></li>\n	<li><span style="font-family:arial\;"><span style="font-size:16px">Dietary and nutrition consultations</span></span></li>\n	<li><span style="font-family:arial\;"><span style="font-size:16px">Service agencies and organizations offering services for aging adults</span></span></li>\n	<li><span style="font-family:arial\;"><span style="font-size:16px">Educational sessions - navigating healthcare resources\, preventive care and more</span></span></li>\n	<li><span style="font-family:arial\;"><span style="font-size:16px">Connect with local senior clubs\, support groups and community organizations</span></span></li>\n	<li><span style="font-family:arial\;"><span style="font-size:16px">More information and details coming soon!</span></span></li>\n</ul>\n
LOCATION:Elgin Community College 1700 Spartan Dr. Elgin\, IL 60123
UID:e.1147.3401
SEQUENCE:3
DTSTAMP:20260425T041331Z
URL:https://business.bartlettareachamber.com/events/details/senior-health-wellness-fair-3401
END:VEVENT

END:VCALENDAR
