BEGIN:VCALENDAR
VERSION:2.0
PRODID:-//ChamberMaster//Event Calendar 2.0//EN
METHOD:PUBLISH
X-PUBLISHED-TTL:P3D
REFRESH-INTERVAL:P3D
CALSCALE:GREGORIAN
BEGIN:VEVENT
DTSTART:20141209T230000Z
DTEND:20141210T010000Z
X-MICROSOFT-CDO-ALLDAYEVENT:FALSE
SUMMARY:Ribbon Cutting- Arts In Bartlett Open House
DESCRIPTION:Special Invitation to Bartlett Chamber Members\n\nJoin us for our ribbon cutting to celebrate our new Arts Center location!  Galleries with 13 artists\, expanded Color My World Children's Art Studio\, Master Works Photography Studio\, Dorothy Deen Cello Studio\, Artists Linda Kay & Jenny Vogt.
X-ALT-DESC;FMTTYPE=text/html:Special Invitation to Bartlett Chamber Members<br />\nJoin us for our ribbon cutting to celebrate our new Arts Center location!&nbsp\; Galleries with 13 artists\, expanded Color My World Children&#39\;s Art Studio\, Master Works Photography Studio\, Dorothy Deen Cello Studio\, Artists Linda Kay &amp\; Jenny Vogt.
LOCATION:Arts In Bartlett 215 S. Main Street in Town Center Bartlett\, IL 60103
UID:e.1147.392
SEQUENCE:3
DTSTAMP:20260426T002232Z
URL:https://business.bartlettareachamber.com/events/details/ribbon-cutting-arts-in-bartlett-open-house-392
END:VEVENT

END:VCALENDAR
