BEGIN:VCALENDAR
VERSION:2.0
PRODID:-//ChamberMaster//Event Calendar 2.0//EN
METHOD:PUBLISH
X-PUBLISHED-TTL:P3D
REFRESH-INTERVAL:P3D
CALSCALE:GREGORIAN
BEGIN:VEVENT
DTSTART:20240530T170000Z
DTEND:20240530T180000Z
X-MICROSOFT-CDO-ALLDAYEVENT:FALSE
SUMMARY:NEW - Thursday LEADS Group
DESCRIPTION:With the success of our Tuesday AM leads group\, we found the need to start another group! This is the perfect opportunity to get in on a Category Exclusive BACC Leads Referral Group. The group will meet regularly on the 3rd THURSDAY of every month.\n\n(this month is the exception) This group will be led by Brittany Stein - Southwestern Real Estate. Those interested are encouraged to attend. By meeting frequently\, the businesses become well acquainted and build trust among members. In time\, leads are referred\, and there is greater opportunity for sales to be generated. \n\nEveryone will be responsible for purchasing their own meal.\n\nNo charge-Member benefit\n\nNon-Members are allowed to visit one time to meet our members and see if it is a good fit.\n\nCheck it out before your category is filled. \n\nPlease contact the Bartlett Area Chamber office for information on the LEADS Group and available categories.
X-ALT-DESC;FMTTYPE=text/html:<span style="font-size:14px\;"><span style="font-family: arial\;">With the success of our Tuesday AM leads group\, we found the need to start another group! This is the perfect opportunity to get in on a&nbsp\;<strong>Category Exclusive&nbsp\;BACC Leads Referral Group</strong>.&nbsp\;The group will meet regularly on the 3rd<strong><sup>&nbsp\;</sup>THURSDAY</strong>&nbsp\;of every month.<br />\n(this month is the exception) This group will be led by&nbsp\;</span>Brittany Stein - Southwestern Real Estate.<span style="font-family:arial\;"> Those interested are encouraged to attend. By meeting frequently\, the businesses become well acquainted and build trust among members. In time\, leads are referred\, and there is greater opportunity for sales to be generated.&nbsp\;<br />\nEveryone will be responsible for purchasing their own meal.</span><br />\n<span style="color: rgb(51\, 51\, 51)\; font-family: arial\; background-color: rgb(255\, 255\, 255)\;">No charge-Member benefit</span><br style="color: rgb(51\, 51\, 51)\; font-family: arial\; font-size: 16px\; background-color: rgb(255\, 255\, 255)\;" />\n<span style="color: rgb(51\, 51\, 51)\; font-family: arial\; background-color: rgb(255\, 255\, 255)\;">Non-Members are allowed to visit one time to meet our members and see if it is a good fit.</span><br />\n<span style="font-family: arial\;"><span style="background-image: initial\; background-position: initial\; background-size: initial\; background-repeat: initial\; background-attachment: initial\; background-origin: initial\; background-clip: initial\;">Check it out before your category is filled.&nbsp\;<br />\n<strong>Please contact the Bartlett Area Chamber office</strong></span><strong>&nbsp\;for information on the LEADS Group and available categories.</strong></span></span>
LOCATION:d licious COFFEEBAR Inside Banbury Fair 211 W. Railroad Ave.\, Bartlett
UID:e.1147.3432
SEQUENCE:3
DTSTAMP:20260425T020453Z
URL:https://business.bartlettareachamber.com/events/details/new-thursday-leads-group-3432
END:VEVENT

END:VCALENDAR
