BEGIN:VCALENDAR
VERSION:2.0
PRODID:-//ChamberMaster//Event Calendar 2.0//EN
METHOD:PUBLISH
X-PUBLISHED-TTL:P3D
REFRESH-INTERVAL:P3D
CALSCALE:GREGORIAN
BEGIN:VEVENT
DTSTART:20141202T230000Z
DTEND:20141203T010000Z
X-MICROSOFT-CDO-ALLDAYEVENT:FALSE
SUMMARY:Networking Night Out December 2014 - Bartlett Hills Golf Club & Banquets
DESCRIPTION:Come network with fellow chamber members in a fun\, casual setting! Free appetizers will be served and a cash bar will be available.
X-ALT-DESC;FMTTYPE=text/html:Come network with fellow chamber members in a fun\, casual setting! Free appetizers will be served and a cash bar will be available.
LOCATION:Bartlett Hills Golf Club & Banquets 800 W. Oneida Bartlett\, IL 60103
UID:e.1147.397
SEQUENCE:3
DTSTAMP:20260426T004302Z
URL:https://business.bartlettareachamber.com/events/details/networking-night-out-december-2014-bartlett-hills-golf-club-banquets-12-02-2014-397
END:VEVENT

END:VCALENDAR
