BEGIN:VCALENDAR
VERSION:2.0
PRODID:-//ChamberMaster//Event Calendar 2.0//EN
METHOD:PUBLISH
X-PUBLISHED-TTL:P3D
REFRESH-INTERVAL:P3D
CALSCALE:GREGORIAN
BEGIN:VEVENT
DTSTART:20240222T134500Z
DTEND:20240222T150000Z
X-MICROSOFT-CDO-ALLDAYEVENT:FALSE
SUMMARY:Multi-Chamber Progressive Breakfast
DESCRIPTION:ONLINE REGISTRATION IS CLOSED FOR THIS EVENT!\n\nFourteen chambers are joining forces to bring you a robust networking experience. Your customers come from beyond the boundaries of your town\, and your networking should as well. Come early for breakfast and be done by 9 am.  Progressive means you'll be moving from table to table in 20-minute intervals to meet a new set of business professionals. It is important you are on-time and register in advance\, as there are no walk-ins allowed since the table assignments are predetermined. Be sure to bring business cards.
X-ALT-DESC;FMTTYPE=text/html:<span style="font-family:arial\;"><span style="font-size:14px\;"><span style="background:white\;"><span style="color:#B22222\;">ONLINE REGISTRATION IS CLOSED FOR THIS EVENT!</span><br />\n<span style="color:#333333\;">Fourteen chambers are joining forces to bring you a robust networking experience. Your customers come from beyond the boundaries of your town\, and your networking should as well. Come early for breakfast and be done by 9 am.&nbsp\; Progressive means you&#39\;ll be moving from table to table in 20-minute intervals to meet a new set of business professionals. It is important you are on-time and register in advance\, as there are no walk-ins allowed since the table assignments are predetermined. Be sure to bring business cards.</span></span></span></span>
LOCATION:Bloomingdale Golf Club 181 Glen Ellyn Rd. Bloomingdale
UID:e.1147.3365
SEQUENCE:3
DTSTAMP:20260425T020316Z
URL:https://business.bartlettareachamber.com/events/details/multi-chamber-progressive-breakfast-3365
END:VEVENT

END:VCALENDAR
