BEGIN:VCALENDAR
VERSION:2.0
PRODID:-//ChamberMaster//Event Calendar 2.0//EN
METHOD:PUBLISH
X-PUBLISHED-TTL:P3D
REFRESH-INTERVAL:P3D
CALSCALE:GREGORIAN
BEGIN:VEVENT
DTSTART:20140122T133000Z
DTEND:20140122T150000Z
X-MICROSOFT-CDO-ALLDAYEVENT:FALSE
SUMMARY:Membership Breakfast-2014
DESCRIPTION:Join fellow Chamber Members to hear plans for 2014 while making some great business contacts for the new year.  This is a FREE event for all Chamber Members and everyone will enjoy a hot breakfast!\n\n\n\nThis year we will have a Chamber of Commerce Expo theme for our breakfast.  Plan to come find out about our plans to help your business in 2014!. We will also have some great door prizes that you can win!\n \n\nWe look forward to seeing you at this great  \n\nkick off to a new year.
X-ALT-DESC;FMTTYPE=text/html:<span _mce_style="color: #ffffff\; font-size: 11pt\;" style="font-size: 11pt\;"><strong>Join fellow Chamber Members to hear plans for 2014 while making some great business contacts for the new year.&nbsp\; This is a FREE event for all Chamber Members and everyone will enjoy a hot breakfast!<br />\n<br />\nThis year we will have a Chamber of Commerce Expo theme for our breakfast.&nbsp\; Plan to come find out about our plans to help your business in 2014!. We will also have some great door prizes that you can win!</strong></span>\n<p _mce_style="margin-top: 0px\; margin-bottom: 0px\;" style="margin-top: 0px\; margin-bottom: 0px\;">&nbsp\;</p>\n\n<p _mce_style="margin-top: 0px\; margin-bottom: 0px\;" style="margin-top: 0px\; margin-bottom: 0px\;"><span _mce_style="color: #ffffff\; font-size: 11pt\;" style="font-size: 11pt\;"><strong>We look forward to seeing you at this great &nbsp\;</strong></span></p>\n\n<p _mce_style="margin-top: 0px\; margin-bottom: 0px\;" style="margin-top: 0px\; margin-bottom: 0px\;"><span _mce_style="color: #ffffff\; font-size: 11pt\;" style="font-size: 11pt\;"><strong>kick off to a new year.</strong></span></p>\n
LOCATION:The Bartlett Community Center The Oak Room 700 S. Bartlett Road Bartlett\, IL
UID:e.1147.291
SEQUENCE:3
DTSTAMP:20260422T001403Z
URL:https://business.bartlettareachamber.com/events/details/membership-breakfast-2014-01-22-2014-291
END:VEVENT

END:VCALENDAR
