BEGIN:VCALENDAR
VERSION:2.0
PRODID:-//ChamberMaster//Event Calendar 2.0//EN
METHOD:PUBLISH
X-PUBLISHED-TTL:P3D
REFRESH-INTERVAL:P3D
CALSCALE:GREGORIAN
BEGIN:VEVENT
DTSTART:20140129T170000Z
DTEND:20140129T193000Z
X-MICROSOFT-CDO-ALLDAYEVENT:FALSE
SUMMARY:Luncheon 01/14 - Multi Chamber Progressive
DESCRIPTION:Bring in the new year with your fellow chamber members and members from six other local chambers at this colossal networking event! Be prepared to present a one minute infomercial\, and bring plenty of business cards to hand out.  A table will be available to display brochures and other promotional items.
X-ALT-DESC;FMTTYPE=text/html:Bring in the new year with your fellow chamber members and members from six other local chambers at this colossal networking event! Be prepared to present a one minute infomercial\, and bring plenty of business cards to hand out.&nbsp\; A table will be available to display brochures and other promotional items.
LOCATION:Medinah Shrine Center 550 Shriners Drive Addison\, IL
UID:e.1147.290
SEQUENCE:3
DTSTAMP:20260422T002230Z
URL:https://business.bartlettareachamber.com/events/details/luncheon-01-14-multi-chamber-progressive-290
END:VEVENT

END:VCALENDAR
