BEGIN:VCALENDAR
VERSION:2.0
PRODID:-//ChamberMaster//Event Calendar 2.0//EN
METHOD:PUBLISH
X-PUBLISHED-TTL:P3D
REFRESH-INTERVAL:P3D
CALSCALE:GREGORIAN
BEGIN:VEVENT
DTSTART:20240919T170000Z
DTEND:20240919T180000Z
X-MICROSOFT-CDO-ALLDAYEVENT:FALSE
SUMMARY:LEADS-NEW -Thursday Group
DESCRIPTION:With the success of our Tuesday AM leads group\, we found the need to start another group! This is the perfect opportunity to get in on a Category Exclusive BACC Leads Referral Group. The group will meet regularly on the 3rd THURSDAY of every month and will be led by Brittany Stein - Southwestern Real Estate. \n\nBy meeting frequently\, the businesses become well acquainted and build trust among members. In time\, leads are referred\, and there is greater opportunity for sales to be generated. \n\nEveryone will be responsible for purchasing their own meal.\n\nNo charge-Member benefit\n\nNon-Members are allowed to visit one time to meet our members and see if it is a good fit.\n\nCheck it out before your category is filled. \n\nPlease pass the invite along to anyone that may be interested in joining! They are able to attend as a guest one time prior to joining the Chamber. If they join\, you will receive a referral bonus!\n\n\n\nPlease contact the Bartlett Area Chamber office for information on the LEADS Group and available categories.
X-ALT-DESC;FMTTYPE=text/html:<span style="font-size:14px\;"><span style="font-family: arial\;">With the success of our Tuesday AM leads group\, we found the need to start another group! This is the perfect opportunity to get in on a&nbsp\;<strong>Category Exclusive&nbsp\;BACC Leads Referral Group</strong>.&nbsp\;The group will meet regularly on the <strong>3rd<strong><sup>&nbsp\;</sup></strong>THURSDAY</strong>&nbsp\;of every month and will be led by&nbsp\;</span>Brittany Stein - Southwestern Real Estate.<span style="font-family:arial\;">&nbsp\;<br />\nBy meeting frequently\, the businesses become well acquainted and build trust among members. In time\, leads are referred\, and there is greater opportunity for sales to be generated.&nbsp\;<br />\nEveryone will be responsible for purchasing their own meal.</span><br />\n<span style="color: rgb(51\, 51\, 51)\; font-family: arial\; background-color: rgb(255\, 255\, 255)\;">No charge-Member benefit</span><br style="color: rgb(51\, 51\, 51)\; font-family: arial\; font-size: 16px\; background-color: rgb(255\, 255\, 255)\;" />\n<span style="color: rgb(51\, 51\, 51)\; font-family: arial\; background-color: rgb(255\, 255\, 255)\;">Non-Members are allowed to visit one time to meet our members and see if it is a good fit.</span><br />\n<span style="font-family: arial\;"><span style="background-image: initial\; background-position: initial\; background-size: initial\; background-repeat: initial\; background-attachment: initial\; background-origin: initial\; background-clip: initial\;">Check it out before your category is filled.&nbsp\;</span></span></span><br />\n<span style="color:black\;">Please pass the invite along to anyone that may be interested in joining! They are able to attend as a guest one time prior to joining the Chamber. If they join\, you will receive a referral bonus!</span><br />\n<br />\n<span style="font-size:14px\;"><span style="font-family: arial\;"><span style="background-image: initial\; background-position: initial\; background-size: initial\; background-repeat: initial\; background-attachment: initial\; background-origin: initial\; background-clip: initial\;"><strong>Please contact the Bartlett Area Chamber office</strong></span><strong>&nbsp\;for information on the LEADS Group and available categories.</strong></span></span>
LOCATION:Orale Mexican Bar and Grill INC. 7219 Orchard Lane\, Hanover Park
UID:e.1147.3479
SEQUENCE:3
DTSTAMP:20260423T210500Z
URL:https://business.bartlettareachamber.com/events/details/leads-new-thursday-group-09-19-2024-3479
END:VEVENT

END:VCALENDAR
