BEGIN:VCALENDAR
VERSION:2.0
PRODID:-//ChamberMaster//Event Calendar 2.0//EN
METHOD:PUBLISH
X-PUBLISHED-TTL:P3D
REFRESH-INTERVAL:P3D
CALSCALE:GREGORIAN
BEGIN:VEVENT
DTSTART:20241114T230000Z
DTEND:20241115T030000Z
X-MICROSOFT-CDO-ALLDAYEVENT:FALSE
SUMMARY:Ladies Night Out 70's Night
DESCRIPTION:Ladies Night Out! Have fun shopping with over 30 local vendors and crafters! Raffle prize giveaway every hour along with multiple fashion shows by Martha and Bartlett's very own Closet Boutique!\n\nMusic and Dancing with DJ Steve and All pro-music! Food and wine tasting and much much more!!!!\n\nTickets $15 per person! All canned and dry goods to support the Hanover Township Food Pantry! Free Raffle Ticket for each item! Goodie Bags given away to first 50 sold tickets!\nSee less
X-ALT-DESC;FMTTYPE=text/html:<span style="background-color:rgb(255\, 255\, 255)\; color:rgb(8\, 8\, 9)\; font-family:segoe ui historic\,segoe ui\,helvetica\,arial\,sans-serif\; font-size:15px">Ladies Night Out! Have fun shopping with over 30 local vendors and crafters! Raffle prize giveaway every hour along with multiple fashion shows by Martha and Bartlett&#39\;s very own Closet Boutique!</span><br />\n<span style="background-color:rgb(255\, 255\, 255)\; color:rgb(8\, 8\, 9)\; font-family:segoe ui historic\,segoe ui\,helvetica\,arial\,sans-serif\; font-size:15px">Music and Dancing with DJ Steve and All pro-music! Food and wine tasting and much much more!!!!</span><br />\n<span style="background-color:rgb(255\, 255\, 255)\; color:rgb(8\, 8\, 9)\; font-family:segoe ui historic\,segoe ui\,helvetica\,arial\,sans-serif\; font-size:15px">Tickets $15 per person! All canned and dry goods to support the Hanover Township Food Pantry! Free Raffle Ticket for each item! Goodie Bags given away to first 50 sold tickets!</span>\n<div>See less</div>\n
LOCATION:800. West Oneida Ave. Bartlett\, IL 60103
UID:e.1147.3492
SEQUENCE:3
DTSTAMP:20260425T021006Z
URL:https://business.bartlettareachamber.com/events/details/ladies-night-out-70-s-night-3492
END:VEVENT

END:VCALENDAR
