BEGIN:VCALENDAR
VERSION:2.0
PRODID:-//ChamberMaster//Event Calendar 2.0//EN
METHOD:PUBLISH
X-PUBLISHED-TTL:P3D
REFRESH-INTERVAL:P3D
CALSCALE:GREGORIAN
BEGIN:VEVENT
DTSTART:20240920T150000Z
DTEND:20240920T190000Z
X-MICROSOFT-CDO-ALLDAYEVENT:FALSE
SUMMARY:Job Fair-Employers Wanted!
DESCRIPTION:2024 Hire Spartans Job Fair\n\nEmployers Wanted\n\nWe are thrilled to announce the return of on-campus job fairs at Elgin Community College! If you know of employers which have open positions and want to connect with talented students and community members in the region\, this job fair is the perfect opportunity for them. Please feel free to share the information with our local employers as you see fit. This event provides an excellent platform to engage with our students\, connect with the local community\, and showcase your organization. Job seekers from both our student body and the wider community will be in attendance\, making it a prime opportunity to explore potential talent.\n\nEvent Details:\n\n Date: September 20th\n\n Time: 10:00 AM - 2:00 PM\n\n To register for the Job Fair as an employer\, please use the following link: https://lnkd.in/g4EcrVkM.\n\n Estamos felices de anunciar el regreso de la Feria de Empleo de Elgin Community College! Si conoce empleadores que tienen puestos vacantes y desea conectarse con estudiantes talentosos y miembros de la comunidad en la regi n\, esta feria de empleo es la oportunidad perfecta. No dudes en compartir la informaci n con empleadores locales. Este evento proporciona una excelente plataforma para interactuar con nuestros estudiantes\, conectarse con la comunidad local y mostrar su organizaci n. Asistir n solicitantes de empleo tanto de nuestro alumnado como de la comunidad en general\, lo que la convierte en una excelente oportunidad para explorar talentos potenciales.  Preguntas?\, Por favor escribanos a: spel@elgin.edu\n\n \n\n \n\nDetalles del evento:\n\nFecha: 20 de septiembre\n\nHora: 10:00 a. m. - 2:00 p. m.\n\nPara registrarse en la Feria de Empleo como empleador\, utilice el siguiente enlace: https://lnkd.in/g4EcrVkM.
X-ALT-DESC;FMTTYPE=text/html:<p align="center" style="text-align:center"><span style="font-size:28px\;"><strong><i><span style="font-family: Arial\, sans-serif\; color: rgb(34\, 34\, 34)\;">2024 Hire Spartans Job Fair<br />\nEmployers Wanted</span></i></strong></span></p>\n\n<p align="center" style="text-align:center"><span style="font-size:20px\;"><i><span style="font-family: Arial\, sans-serif\; color: rgb(34\, 34\, 34)\;">We are thrilled to announce the return of on-campus job fairs at Elgin Community College! If you know of employers which have open positions and want to connect with talented students and community members in the region\, this job fair is the perfect opportunity for them. Please feel free to share the information with our local employers as you see fit. This event provides an excellent platform to engage with our students\, connect with the local community\, and showcase your organization. Job seekers from both our student body and the wider community will be in attendance\, making it a prime opportunity to explore potential talent.</span></i></span></p>\n\n<p align="center" style="text-align:center"><span style="font-size:20px\;"><i><span style="font-family: Arial\, sans-serif\; color: rgb(34\, 34\, 34)\;">Event Details:</span></i></span><span style="font-size:10.5pt\;font-family:&quot\;Arial&quot\;\,sans-serif\;color:#3E3E3E"><o:p></o:p></span></p>\n\n<p align="center" style="text-align:center"><span style="font-size:20px\;"><i><span style="font-family: Arial\, sans-serif\; color: rgb(34\, 34\, 34)\;">&bull\;Date: September 20th</span></i></span><span style="font-size:10.5pt\;font-family:&quot\;Arial&quot\;\,sans-serif\;color:#3E3E3E"><o:p></o:p></span></p>\n\n<p align="center" style="text-align:center"><span style="font-size:20px\;"><i><span style="font-family: Arial\, sans-serif\; color: rgb(34\, 34\, 34)\;">&bull\;Time: 10:00 AM - 2:00 PM</span></i></span><span style="font-size:10.5pt\;font-family:&quot\;Arial&quot\;\,sans-serif\;color:#3E3E3E"><o:p></o:p></span></p>\n\n<p align="center" style="text-align:center"><span style="font-size:20px\;"><span style="font-family: Arial\, sans-serif\; color: rgb(62\, 62\, 62)\;"><o:p>&nbsp\;</o:p></span><i><span style="font-family: Arial\, sans-serif\; color: rgb(34\, 34\, 34)\;">To register for the Job Fair as an employer\, please use the following link:&nbsp\;</span></i><span style="font-family: Arial\, sans-serif\; color: rgb(62\, 62\, 62)\;"><a href="https://urldefense.proofpoint.com/v2/url?u=https-3A__b4uthl6ab.cc.rs6.net_tn.jsp-3Ff-3D001pP3Uh6kB-2DxE6UpYE-5F7XA9uAMbTYxRnmKCsqNjuBB8S6EAWbxNqlOB0GLChERCdSqGf-2DzSoa0cnwW3K5ky5ZZmJe2AUjP8ArswgHZDwH0DMDey-2DNhxNJtT-2D75HGr-2DPIaJ-5Ff4xGkWZT5BiYbRjTp-2DNpg-3D-3D-26c-3D2K7WWjJBH6ALJSmAysWYEpyLtWsrRDNSwnc-5F4M0r2-5FwOyuzL-5FSqPrw-3D-3D-26ch-3D7k0iBDuU2YFOreosJuZiZTnC1NqtU1-5FXV7j6s-2DQ5L3eMdYzaOrbltQ-3D-3D&amp\;d=DwMFaQ&amp\;c=euGZstcaTDllvimEN8b7jXrwqOf-v5A_CdpgnVfiiMM&amp\;r=ByRv7u1mWdVakZTZq_ezhQdLvwDXfqK6Sag4aqr48EQ&amp\;m=cDQ9er9zqCQGwZuuE7-Xezk86C7uuwOwqGEoMvJHSzimiBfncKixAN_CZOk6eFmN&amp\;s=zZ4kUAvKuAFPY91GkJH4oVXbfbvJAyii7WtILI123T0&amp\;e=" target="_blank"><b><i><span style="color:#222222\;text-decoration:none\;\ntext-underline:none">https://lnkd.in/g4EcrVkM</span></i></b></a></span><i><span style="font-family: Arial\, sans-serif\; color: rgb(34\, 34\, 34)\;">.</span></i></span></p>\n\n<p align="center" style="text-align:center"><span style="font-size:20px\;"><i><span style="font-family: Arial\, sans-serif\; color: rgb(34\, 34\, 34)\;">&iexcl\;Estamos felices de anunciar el regreso de la Feria de Empleo de Elgin Community College! Si conoce empleadores que tienen puestos vacantes y desea conectarse con estudiantes talentosos y miembros de la comunidad en la regi&oacute\;n\, esta feria de empleo es la oportunidad perfecta. No dudes en compartir la informaci&oacute\;n con empleadores locales. Este evento proporciona una excelente plataforma para interactuar con nuestros estudiantes\, conectarse con la comunidad local y mostrar su organizaci&oacute\;n. Asistir&aacute\;n solicitantes de empleo tanto de nuestro alumnado como de la comunidad en general\, lo que la convierte en una excelente oportunidad para explorar talentos potenciales. &iquest\;Preguntas?\, Por favor escribanos a:&nbsp\;</span></i><span style="font-family: Arial\, sans-serif\; color: rgb(62\, 62\, 62)\;"><a href="mailto:spel@elgin.edu" target="_blank"><b><i><span style="color:#222222\;\ntext-decoration:none\;text-underline:none">spel@elgin.edu</span></i></b></a></span></span><span style="font-size:10.5pt\;font-family:&quot\;Arial&quot\;\,sans-serif\;color:#3E3E3E"><o:p></o:p></span></p>\n\n<p align="center" style="text-align:center">&nbsp\;</p>\n\n<p align="center" style="text-align:center"><span style="font-size:20px\;"><span style="font-family: Arial\, sans-serif\; color: rgb(62\, 62\, 62)\;"><o:p>&nbsp\;</o:p></span></span></p>\n\n<p align="center" style="text-align:center"><span style="font-size:20px\;"><i><span style="font-family: Arial\, sans-serif\; color: rgb(34\, 34\, 34)\;">Detalles del evento:</span></i><span style="font-family: Arial\, sans-serif\; color: rgb(62\, 62\, 62)\;"><o:p></o:p></span></span></p>\n\n<p align="center" style="text-align:center"><span style="font-size:20px\;"><i><span style="font-family: Arial\, sans-serif\; color: rgb(34\, 34\, 34)\;">Fecha: 20 de septiembre</span></i><span style="font-family: Arial\, sans-serif\; color: rgb(62\, 62\, 62)\;"><o:p></o:p></span></span></p>\n\n<p align="center" style="text-align:center"><span style="font-size:20px\;"><i><span style="font-family: Arial\, sans-serif\; color: rgb(34\, 34\, 34)\;">Hora: 10:00 a. m. - 2:00 p. m.</span></i><span style="font-family: Arial\, sans-serif\; color: rgb(62\, 62\, 62)\;"><o:p></o:p></span></span></p>\n\n<p align="center" style="text-align:center"><span style="font-size:20px\;"><i><span style="font-family: Arial\, sans-serif\; color: rgb(34\, 34\, 34)\;">Para registrarse en la Feria de Empleo como empleador\, utilice el siguiente enlace:&nbsp\;</span></i><span style="font-family: Arial\, sans-serif\; color: rgb(62\, 62\, 62)\;"><a href="https://urldefense.proofpoint.com/v2/url?u=https-3A__b4uthl6ab.cc.rs6.net_tn.jsp-3Ff-3D001pP3Uh6kB-2DxE6UpYE-5F7XA9uAMbTYxRnmKCsqNjuBB8S6EAWbxNqlOB0GLChERCdSqGf-2DzSoa0cnwW3K5ky5ZZmJe2AUjP8ArswgHZDwH0DMDey-2DNhxNJtT-2D75HGr-2DPIaJ-5Ff4xGkWZT5BiYbRjTp-2DNpg-3D-3D-26c-3D2K7WWjJBH6ALJSmAysWYEpyLtWsrRDNSwnc-5F4M0r2-5FwOyuzL-5FSqPrw-3D-3D-26ch-3D7k0iBDuU2YFOreosJuZiZTnC1NqtU1-5FXV7j6s-2DQ5L3eMdYzaOrbltQ-3D-3D&amp\;d=DwMFaQ&amp\;c=euGZstcaTDllvimEN8b7jXrwqOf-v5A_CdpgnVfiiMM&amp\;r=ByRv7u1mWdVakZTZq_ezhQdLvwDXfqK6Sag4aqr48EQ&amp\;m=cDQ9er9zqCQGwZuuE7-Xezk86C7uuwOwqGEoMvJHSzimiBfncKixAN_CZOk6eFmN&amp\;s=zZ4kUAvKuAFPY91GkJH4oVXbfbvJAyii7WtILI123T0&amp\;e=" target="_blank"><b><i><span style="color:#222222\;text-decoration:none\;\ntext-underline:none">https://lnkd.in/g4EcrVkM</span></i></b></a></span><i><span style="font-family: Arial\, sans-serif\; color: rgb(34\, 34\, 34)\;">.</span></i></span></p>\n\n<p align="center" style="text-align:center"><span style="font-size:10.5pt\;font-family:&quot\;Arial&quot\;\,sans-serif\;color:#3E3E3E"><o:p></o:p></span></p>\n\n<p align="center" style="text-align:center"><span style="font-size:10.5pt\;font-family:&quot\;Arial&quot\;\,sans-serif\;color:#3E3E3E"><o:p></o:p></span></p>\n
LOCATION:Elgin Community College 1700 Spartan Dr. Elgin
UID:e.1147.3486
SEQUENCE:3
DTSTAMP:20260423T210527Z
URL:https://business.bartlettareachamber.com/events/details/job-fair-employers-wanted-3486
END:VEVENT

END:VCALENDAR
