BEGIN:VCALENDAR
VERSION:2.0
PRODID:-//ChamberMaster//Event Calendar 2.0//EN
METHOD:PUBLISH
X-PUBLISHED-TTL:P3D
REFRESH-INTERVAL:P3D
CALSCALE:GREGORIAN
BEGIN:VEVENT
DTSTART:20241002T230000Z
DTEND:20241003T010000Z
X-MICROSOFT-CDO-ALLDAYEVENT:FALSE
SUMMARY:How to Protect Your Business - Medinah Country Club Presentation
DESCRIPTION:CALLING ALL BUSINESS OWNERS! \n\n \n\nThe presentation will focus on the 6 most common mistakes made by business owners. It will cover a wide range of topics to level up and leverage new strategies for your business. The presenters are certified financial planners and have decades of experience working with business owners. Their primary focus is business and succession planning. \n\n \n\nThis event is free\, but limited seats are available. Please reach out to me well in advance and RSVP to the event!\n \n\nEmail: saudy@lsfgchi.com\n \n\n\n\n\nPrevious event video\n\nhttps://www.linkedin.com/posts/lakeshore-financial-group_lakeshorefinancialgroup-businessseminar-activity-7187168548476055552-VoUj?utm_source=share&utm_medium=member_desktop
X-ALT-DESC;FMTTYPE=text/html:<hr />\n<div style="text-align:center"><span style="color:#3399cc"><span style="font-family:tahoma"><big><strong>CALLING ALL BUSINESS OWNERS!&nbsp\;</strong></big></span></span><br />\n&nbsp\;</div>\n\n<div style="text-align:center">The presentation will focus on the <u><strong>6 most common mistakes made by business owners</strong></u>. It will cover a wide range of topics to level up and leverage new strategies for your business. The presenters are certified financial planners and have decades of experience working with business owners. Their primary focus is business and succession planning.&nbsp\;<br />\n&nbsp\;</div>\n\n<div style="text-align:center">This event is free\, but <u>limited seats are available</u>. Please reach out to me well in advance and RSVP to the event!</div>\n&nbsp\;\n\n<div style="text-align:center">Email: saudy@lsfgchi.com</div>\n&nbsp\;\n\n<hr />\n<div style="text-align:center"><br />\n<u>Previous event video</u></div>\n\n<div style="text-align:center"><a href="https://www.linkedin.com/posts/lakeshore-financial-group_lakeshorefinancialgroup-businessseminar-activity-7187168548476055552-VoUj?utm_source=share&amp\;utm_medium=member_desktop">https://www.linkedin.com/posts/lakeshore-financial-group_lakeshorefinancialgroup-businessseminar-activity-7187168548476055552-VoUj?utm_source=share&amp\;utm_medium=member_desktop</a></div>\n
LOCATION:6N001 Medinah Rd\, Medinah\, IL 60157 Right-hand side after main entrance
UID:e.1147.3484
SEQUENCE:3
DTSTAMP:20260423T210740Z
URL:https://business.bartlettareachamber.com/events/details/how-to-protect-your-business-medinah-country-club-presentation-3484
END:VEVENT

END:VCALENDAR
