BEGIN:VCALENDAR
VERSION:2.0
PRODID:-//ChamberMaster//Event Calendar 2.0//EN
METHOD:PUBLISH
X-PUBLISHED-TTL:P3D
REFRESH-INTERVAL:P3D
CALSCALE:GREGORIAN
BEGIN:VEVENT
DTSTART:20141205T220000Z
DTEND:20141206T023000Z
X-MICROSOFT-CDO-ALLDAYEVENT:FALSE
SUMMARY:Holiday Tree Lighting 2014
DESCRIPTION:Join the Village of Bartlett and the Bartlett Chamber of Commerce in celebrating the start of the holiday season. Local restaurants and businesses will be having special offers\, raffles\, open houses and give-a-ways before and after the tree lighting. Activities are from 4:00 PM to 8:30 PM with the tree lighting at 7:00 PM in Bartlett Park.\n\n\n\n4:00 - 8:30 pm - Visit local businesses for special savings\, prize drawings\, children's activities and delicious treats! See the listing below for details.\n\n5:00 - 6:45 pm - Visit Santa at the Log Cabin and enjoy hot chocolate and cookies!\n\n6:30-7:00 pm - South Elgin High School Choir will perform holiday music at the Gazebo. They will then lead spectators in the singing of carols just before the tree is lit.\n\n7:00 pm - The Holiday Tree will be lit in Bartlett Park at North Ave\, & Oak Ave. by Village President Kevin Wallace.\n\n6:00-8:00 pm - Immanuel United Church of Christ (North & Western Ave.) will have Make & Take Ornaments for children\, Free coffee\, hot chocolate & cookies\, Bake Sale & Grandma's Attic gift sale. The Church will be open for quiet meditation.\n\n \n\nBe sure to visit:\n\nAbove & Beyond - 140 Bartlett Plaza - $25 off purchase of $100 or more\n\nArts In Bartlett - 215 S. Main St(In Town Ctr.) - 10% off everything in gallery\, Drawing for FREE Children's art Lessons/FREE Cello Lesson/FREE Event Rental/Free 16x20 photo w/photo pkg.\, refreshments served\n\nBanbury Fair - 211 W. Railroad Ave - 20% off all Christmas items\, refreshments\n\nBartlett Coin Shop - 138 S. Oak Ave. - Prize drawing for 1988 1oz Silver-1st Wrigley Field Night Game & First Flight Collection-100th Anniversary of Flight\, Drawing at 8pm\n\nBartlett's Candy House - 211 W. Railroad Ave - FREE Ice Cream Samples\n\nClique Photography - 227 S. Main St. - 50% off gift certificates\, Raffle for $500 Studio Credit\n\nForever After Antiques - 116 W. Bartlett Ave - 30% off antiques & d cor\, 10% off game cards\, refreshments served\n\nMar Val's Hair Center - 137 S. Oak Ave - FREE hot chocolate & cookies\, product giveaways\n\nMorgan Christopher Salon - 1685 S. Route 59 - 20% off Aveda Product and All Services\, Drawing for a $50 Gift Card\, refreshments served\n\nNew to U - 211 W. Railroad Ave - 25% off all regular priced ladies fashions & home d cor\, giveaways\, refreshments served\n\nO'Hare's Pub & Restaurant - 1085 W. Army Trail Rd - All You Can Eat Fish Fry\, Drawing for O'Hare's Gift Certificate\n\nStella's Place - 1015 W. Sterns Rd - $10 free play cards for guests\, Drawings for $25 Food Certificate & $25 Free Play Cards\n\nTreasure's Dancewear & Gifts - 301 W. Railroad Ave - 40% off entire store(select shoes & tights)\n\nDance Motions\, Inc. - 301 W. Railroad Ave - Fun children's activities\, Raffle for 1 month dance class tuition\n\nU Can Do Island - 211 W. Railroad Ave - Children's Christmas Story Time
X-ALT-DESC;FMTTYPE=text/html:<p><strong><span style="font-family:calibri\,sans-serif\;"><span style="font-size:11.0pt\;">Join the Village of Bartlett and the Bartlett Chamber of Commerce in celebrating the start of the holiday season. Local restaurants and businesses will be having special offers\, raffles\, open houses and give-a-ways before and after the tree lighting. Activities are from 4:00 PM to 8:30 PM with the tree lighting at 7:00 PM in Bartlett Park.</span></span></strong><br />\n<br />\n<strong>4:00 - 8:30 pm</strong> - Visit local businesses for special savings\, prize drawings\, children&#39\;s activities and delicious treats! See the listing below for details.<br />\n<strong>5:00 - 6:45 pm </strong>- Visit Santa at the Log Cabin and enjoy hot chocolate and cookies!<br />\n<strong>6:30-7:00 pm</strong> - South Elgin High School Choir will perform holiday music at the Gazebo. They will then lead spectators in the singing of carols just before the tree is lit.<br />\n<strong>7:00 pm </strong>- The Holiday Tree will be lit in Bartlett Park at North Ave\, &amp\; Oak Ave. by Village President Kevin Wallace.<br />\n<strong>6:00-8:00 pm</strong> - Immanuel United Church of Christ (North &amp\; Western Ave.) will have Make &amp\; Take Ornaments for children\, Free coffee\, hot chocolate &amp\; cookies\, Bake Sale &amp\; Grandma&#39\;s Attic gift sale. The Church will be open for quiet meditation.<br />\n&nbsp\;<br />\n<u><strong>Be sure to visit:</strong></u><br />\n<span style="font-size:12px\;"><strong>Above &amp\; Beyond</strong> - 140 Bartlett Plaza - $25 off purchase of $100 or more<br />\n<strong>Arts In Bartlett</strong> - 215 S. Main St(In Town Ctr.) - 10% off everything in gallery\, Drawing for FREE Children&rsquo\;s art Lessons/FREE Cello Lesson/FREE Event Rental/Free 16x20 photo w/photo pkg.\, refreshments served<br />\n<strong>Banbury Fair</strong> - 211 W. Railroad Ave - 20% off all Christmas items\, refreshments<br />\n<strong>Bartlett Coin Shop</strong> - 138 S. Oak Ave. - Prize drawing for 1988 1oz Silver-1<sup>st</sup> Wrigley Field Night Game &amp\; First Flight Collection-100<sup>th</sup> Anniversary of Flight\, Drawing at 8pm<br />\n<strong>Bartlett&rsquo\;s Candy House - </strong>211 W. Railroad Ave - FREE Ice Cream Samples<br />\n<strong>Clique Photography</strong> - 227 S. Main St. - 50% off gift certificates\, Raffle for $500 Studio Credit<br />\n<strong>Forever After Antiques </strong>- 116 W. Bartlett Ave - 30% off antiques &amp\; d&eacute\;cor\, 10% off game cards\, refreshments served<br />\n<strong>Mar Val&rsquo\;s Hair Center</strong> - 137 S. Oak Ave - FREE hot chocolate &amp\; cookies\, product giveaways<br />\n<strong>Morgan Christopher Salon</strong> - 1685 S. Route 59 - 20% off Aveda Product and All Services\, Drawing for a $50 Gift Card\, refreshments served<br />\n<strong>New to U </strong>- 211 W. Railroad Ave - 25% off all regular priced ladies fashions &amp\; home d&eacute\;cor\, giveaways\, refreshments served<br />\n<strong>O&rsquo\;Hare&rsquo\;s Pub &amp\; Restaurant</strong> - 1085 W. Army Trail Rd - All You Can Eat Fish Fry\, Drawing for O&rsquo\;Hare&rsquo\;s Gift Certificate<br />\n<strong>Stella&rsquo\;s Place - </strong>1015 W. Sterns Rd - $10 free play cards for guests\, Drawings for $25 Food Certificate &amp\; $25 Free Play Cards<br />\n<strong>Treasure&rsquo\;s Dancewear &amp\; Gifts - </strong>301 W. Railroad Ave - 40% off entire store(select shoes &amp\; tights)<br />\n<strong>Dance Motions\, Inc. -</strong> 301 W. Railroad Ave - Fun children&rsquo\;s activities\, Raffle for 1 month dance class tuition<br />\n<strong>U Can Do Island</strong> - 211 W. Railroad Ave - Children&rsquo\;s Christmas Story Time</span></p>\n
LOCATION:Bartlett Park North Ave. & Oak Ave. And All Over Bartlett!
UID:e.1147.395
SEQUENCE:3
DTSTAMP:20260426T002155Z
URL:https://business.bartlettareachamber.com/events/details/holiday-tree-lighting-2014-12-05-2014-395
END:VEVENT

END:VCALENDAR
