BEGIN:VCALENDAR
VERSION:2.0
PRODID:-//ChamberMaster//Event Calendar 2.0//EN
METHOD:PUBLISH
X-PUBLISHED-TTL:P3D
REFRESH-INTERVAL:P3D
CALSCALE:GREGORIAN
BEGIN:VEVENT
DTSTART:20241206T230000Z
DTEND:20241207T020000Z
X-MICROSOFT-CDO-ALLDAYEVENT:FALSE
SUMMARY:Hanover Park Tree Lighting Ceremony & Visit with Santa
DESCRIPTION:
X-ALT-DESC;FMTTYPE=text/html:
LOCATION:
UID:e.1147.3640
SEQUENCE:3
DTSTAMP:20260425T041232Z
URL:https://business.bartlettareachamber.com/events/details/hanover-park-tree-lighting-ceremony-visit-with-santa-3640
END:VEVENT

END:VCALENDAR
