BEGIN:VCALENDAR
VERSION:2.0
PRODID:-//ChamberMaster//Event Calendar 2.0//EN
METHOD:PUBLISH
X-PUBLISHED-TTL:P3D
REFRESH-INTERVAL:P3D
CALSCALE:GREGORIAN
BEGIN:VEVENT
DTSTART:20140206T173000Z
DTEND:20140206T193000Z
X-MICROSOFT-CDO-ALLDAYEVENT:FALSE
SUMMARY:Five Star BooTh Camp 2014
DESCRIPTION:Learn the tricks of the trade of the Five Star Expo! When you attend this training session\, you'll learn how to plan a successful trade show experience! Sally Wolcott of Man Marketing and Mike Feeley of Concord Marketing will help YOU be a successful Five Star Business & Health Expo exhibitor!\n\nSally Wolcott comes to us with 15+ years of experience in marketing\, media and sales. Sallie owned and operated her own media consulting agency focused on buying and selling electronic media and print\, while also taking on freelance projects with various agencies. Mike Feeley\, Concord Marketing Solutions is a leading brand identity agency that marries creativity with flawless execution. Concord's service offerings include comprehensive logo merchandise on-line stores\, incentives\, and customized fulfillment\, packaging and kitting programs.
X-ALT-DESC;FMTTYPE=text/html:Learn the tricks of the trade of the Five Star Expo! When you attend this training session\, you&#39\;ll learn how to plan a successful trade show experience! Sally Wolcott of Man Marketing and Mike Feeley of Concord Marketing will help YOU be a successful Five Star Business &amp\; Health Expo exhibitor!<br />\nSally Wolcott comes to us with 15+ years of experience in marketing\, media and sales. Sallie owned and operated her own media consulting agency focused on buying and selling electronic media and print\, while also taking on freelance projects with various agencies. Mike Feeley\, Concord Marketing Solutions is a leading brand identity agency that marries creativity with flawless execution. Concord&#39\;s service offerings include comprehensive logo merchandise on-line stores\, incentives\, and customized fulfillment\, packaging and kitting programs.
LOCATION:Bloomingdale Golf Club 181 Glen Ellyn Road Bloomingdale\, IL 60108
UID:e.1147.303
SEQUENCE:3
DTSTAMP:20260421T223946Z
URL:https://business.bartlettareachamber.com/events/details/five-star-booth-camp-2014-303
END:VEVENT

END:VCALENDAR
