BEGIN:VCALENDAR
VERSION:2.0
PRODID:-//ChamberMaster//Event Calendar 2.0//EN
METHOD:PUBLISH
X-PUBLISHED-TTL:P3D
REFRESH-INTERVAL:P3D
CALSCALE:GREGORIAN
BEGIN:VEVENT
DTSTART:20131017T160000Z
DTEND:20131017T183000Z
X-MICROSOFT-CDO-ALLDAYEVENT:FALSE
SUMMARY:Fall Into Business Multi Chamber Progressive Lunch 10/13
DESCRIPTION:*Meet members from Bartlett\, Batavia\, Hanover Park\, St. Charles and Western DuPage Chambers of Commerce.\n\n*Guests will have the opportunity to network with guests from each chamber.\n\n*Guests will introduce themselves over salad\, then move on to another group of professionals for the main entree.\n\n*Satisfy your sweet tooth with a delicious dessert while meeting a third group of potential customers.\n\n*Don't miss this special opportunity to meet and network with professionals outside of your Chamber.\n\n*Be sure to bring plenty of business cards.
X-ALT-DESC;FMTTYPE=text/html:*Meet members from Bartlett\, Batavia\, Hanover Park\, St. Charles and Western DuPage Chambers of Commerce.<br />\n*Guests will have the opportunity to network with guests from each chamber.<br />\n*Guests will introduce themselves over salad\, then move on to another group of professionals for the main entree.<br />\n*Satisfy your sweet tooth with a delicious dessert while meeting a third group&nbsp\;of potential customers.<br />\n*Don&#39\;t miss this special opportunity to meet and network with professionals outside of your Chamber.<br />\n*Be sure to bring plenty of business cards.
LOCATION:Villa Olivia Country Club Route 20 & Naperville Road Bartlett\, IL 60103
UID:e.1147.276
SEQUENCE:3
DTSTAMP:20260422T054042Z
URL:https://business.bartlettareachamber.com/events/details/fall-into-business-multi-chamber-progressive-lunch-10-13-276
END:VEVENT

END:VCALENDAR
