BEGIN:VCALENDAR
VERSION:2.0
PRODID:-//ChamberMaster//Event Calendar 2.0//EN
METHOD:PUBLISH
X-PUBLISHED-TTL:P3D
REFRESH-INTERVAL:P3D
CALSCALE:GREGORIAN
BEGIN:VEVENT
DTSTART:20131205T230000Z
DTEND:20131206T010000Z
X-MICROSOFT-CDO-ALLDAYEVENT:FALSE
SUMMARY:Business at the Bar 12/13 - Moretti's
DESCRIPTION:Ring in the Holidays with fellow Chamber Members for networking in a fun\, casual setting. This is FREE to all Chamber Members! Plan to attend.\n\n\n\nMoretti's will be offering FREE Appetizers and drink specials like $5 Martini's and $4 house wine.
X-ALT-DESC;FMTTYPE=text/html:Ring in the Holidays with fellow Chamber Members for networking in a fun\, casual setting. This is FREE to all Chamber Members! Plan to attend.<br />\n<br />\nMoretti&#39\;s will be offering FREE Appetizers and drink specials like $5 Martini&#39\;s and $4 house wine.<br />\n&nbsp\;
LOCATION:Moretti's 1175 W. Lake Street Bartlett\, IL
UID:e.1147.289
SEQUENCE:3
DTSTAMP:20260422T020326Z
URL:https://business.bartlettareachamber.com/events/details/business-at-the-bar-12-13-moretti-s-289
END:VEVENT

END:VCALENDAR
