BEGIN:VCALENDAR
VERSION:2.0
PRODID:-//ChamberMaster//Event Calendar 2.0//EN
METHOD:PUBLISH
X-PUBLISHED-TTL:P3D
REFRESH-INTERVAL:P3D
CALSCALE:GREGORIAN
BEGIN:VEVENT
DTSTART:20130312T130000Z
DTEND:20130312T140000Z
X-MICROSOFT-CDO-ALLDAYEVENT:FALSE
SUMMARY:Brown Bag Education 03/13 - Disaster Preparedness for Businesses
DESCRIPTION:Did you know that 50% of business that experience a significant loss such as a fire or major water damage are closed within 1 year?  This brown bag presentation will give you an overview of how to create a preparedness plan for your company.  This will increase your business' probability of survival\, should these events or others\, occur.
X-ALT-DESC;FMTTYPE=text/html:Did you know that 50% of business that experience a significant loss such as a fire or major water damage are closed within 1 year?&nbsp\; This brown bag presentation will give you an overview of how to create a preparedness plan for your company.&nbsp\; This will increase your business&rsquo\; probability of survival\, should these events or others\, occur.
LOCATION:Bartlett Public Library 800 S. Bartlett Road (Enter through the front door)
UID:e.1147.220
SEQUENCE:3
DTSTAMP:20260422T174132Z
URL:https://business.bartlettareachamber.com/events/details/brown-bag-education-03-13-disaster-preparedness-for-businesses-220
END:VEVENT

END:VCALENDAR
