BEGIN:VCALENDAR
VERSION:2.0
PRODID:-//ChamberMaster//Event Calendar 2.0//EN
METHOD:PUBLISH
X-PUBLISHED-TTL:P3D
REFRESH-INTERVAL:P3D
CALSCALE:GREGORIAN
BEGIN:VEVENT
DTSTART:20240921T180000Z
DTEND:20240921T200000Z
X-MICROSOFT-CDO-ALLDAYEVENT:FALSE
SUMMARY:Bartlett Cemetery Walk
DESCRIPTION:You  are  cordially  invited  to  enter  a  time  capsule  to  the  past  at  the\n\n Bartlett Cemetery Walk\n\n"The Stories Behind the Streets"\n\n132 years of history\n\nDate: Saturday 09/21/2024\n\n1:00 PM to 3:00 PM\n\nEvent Location: (downtown Bartlett) Bartlett Cemetery is located at west North Ave. & Oliver St.\, just east of Bartlett Hills Golf Course\, and just nor\n\n \n\nTours will begin at 1pm. until the last tour at 2:15 pm. Each walk lasts about 45 minutes   rain or shine. For more information\, send an email to historicalsocietyofbartlett@gmail.com\n\n \n\nCostumed reenactors will portray the life and times of early Bartlett citizens near their graves\, making history come alive for all the family in a touching & entertaining way. Included will be:  \n\nAdolf Petersdorf\, Fred Schick\, Jr.\, George Struckman\, Maurice Giles\, and Elroy Tatge.\n\n  \n\nTickets   no charge but donations accepted.  Children must be accompanied by a parent or guardian. The tour is an easy walk & golf carts will be available for those who need them. \n\n\n\nSponsored by the Bartlett Historical Society\n\nhistoricalsocietyofbartlett@gmail.com
X-ALT-DESC;FMTTYPE=text/html:<span style="font-family:berlin sans fb demi\,sans-serif\;"><span style="font-size:12.0pt\;">You &nbsp\;are &nbsp\;cordially &nbsp\;invited &nbsp\;to &nbsp\;enter &nbsp\;a &nbsp\;time &nbsp\;capsule &nbsp\;to &nbsp\;the &nbsp\;past &nbsp\;at &nbsp\;the</span></span><br />\n<strong><span style="color:#833C0B\;"><span style="font-family:berlin sans fb demi\,sans-serif\;"><span style="font-size:36.0pt\;">&nbsp\;Bartlett Cemetery Walk</span></span></span></strong><br />\n<strong><span style="color:#833C0B\;"><span style="font-family:berlin sans fb demi\,sans-serif\;"><span style="font-size:36.0pt\;">&quot\;The Stories Behind the Streets&rdquo\;</span></span></span></strong><br />\n<strong><span style="color:#833C0B\;"><span style="font-family:berlin sans fb demi\,sans-serif\;"><span style="font-size:24.0pt\;">132 years of history</span></span></span></strong><br />\n<strong><span style="color:black\;"><span style="font-family:arial\,sans-serif\;"><span style="font-size:28.0pt\;">Date:</span></span></span></strong><span style="color:black\;"><span style="font-family:arial\,sans-serif\;"><span style="font-size:28.0pt\;"> Saturday 09/21/2024</span></span></span><br />\n<span style="color:black\;"><span style="font-family:arial\,sans-serif\;"><span style="font-size:28.0pt\;">1:00 PM to 3:00 PM</span></span></span><br />\n<strong><span style="color:black\;"><span style="font-family:arial\,sans-serif\;"><span style="font-size:12.0pt\;">Event Location:</span></span></span></strong> <span style="color:black\;"><span style="font-family:arial\,sans-serif\;"><span style="font-size:10.0pt\;">(downtown Bartlett)</span></span></span> <span style="color:black\;"><span style="font-family:arial\,sans-serif\;"><span style="font-size:12.0pt\;">Bartlett Cemetery is located at west North Ave. &amp\; Oliver St.\, just east of Bartlett Hills Golf Course\, and just nor</span></span></span><br />\n&nbsp\;<br />\n<span style="color:black\;"><span style="font-family:arial\,sans-serif\;"><span style="font-size:12.0pt\;">Tours will begin at 1pm. until the last tour at 2:15 pm. Each walk lasts about 45 minutes &ndash\; rain or shine. For more information\, send an email to </span></span></span><a href="mailto:historicalsocietyofbartlett@gmail.com"><span style="font-family:arial\,sans-serif\;"><span style="font-size:12.0pt\;">historicalsocietyofbartlett@gmail.com</span></span></a><br />\n&nbsp\;<br />\n<span style="color:black\;"><span style="font-family:arial\,sans-serif\;"><span style="font-size:12.0pt\;">Costumed reenactors will portray the life and times of early Bartlett citizens near their graves\, making history come alive for all the family in a touching &amp\; entertaining way. Included will be: &nbsp\;</span></span></span><br />\n<strong><span style="color:black\;"><span style="font-family:arial\,sans-serif\;"><span style="font-size:12.0pt\;">Adolf Petersdorf\, Fred Schick\, Jr.\, George Struckman\, Maurice Giles\, and Elroy Tatge.</span></span></span></strong><br />\n&nbsp\;&nbsp\;<br />\n<strong><span style="color:black\;"><span style="font-family:arial\,sans-serif\;"><span style="font-size:12.0pt\;">Tickets</span></span></span></strong><span style="color:black\;"><span style="font-family:arial\,sans-serif\;"><span style="font-size:12.0pt\;"> &ndash\; no charge but donations accepted.&nbsp\; Children must be accompanied by a parent or guardian. <strong>The tour is an <u>easy</u> walk &amp\; golf carts will be available for those who need them. </strong></span></span></span><br />\n<br />\n<strong><span style="color:black\;"><span style="font-family:arial\,sans-serif\;"><span style="font-size:14.0pt\;">Sponsored by the <em>Bartlett Historical Society</em></span></span></span></strong><br />\n<a href="mailto:historicalsocietyofbartlett@gmail.com"><span style="font-family:arial\,sans-serif\;"><span style="font-size:12.0pt\;">historicalsocietyofbartlett@gmail.com</span></span></a>
LOCATION:(downtown Bartlett) Bartlett Cemetery is located at west North Ave. & Oliver St.\, just east of Bartlett Hills Golf Course\, and just north of the railroad tracks. Plenty of close parking on the street on North Ave.
UID:e.1147.3475
SEQUENCE:3
DTSTAMP:20260423T210218Z
URL:https://business.bartlettareachamber.com/events/details/bartlett-cemetery-walk-3475
END:VEVENT

END:VCALENDAR
