BEGIN:VCALENDAR
VERSION:2.0
PRODID:-//ChamberMaster//Event Calendar 2.0//EN
METHOD:PUBLISH
X-PUBLISHED-TTL:P3D
REFRESH-INTERVAL:P3D
CALSCALE:GREGORIAN
BEGIN:VEVENT
DTSTART:20131209T230000Z
DTEND:20131210T010000Z
X-MICROSOFT-CDO-ALLDAYEVENT:FALSE
SUMMARY:After Hours - Village of Bartlett 12/13
DESCRIPTION:
X-ALT-DESC;FMTTYPE=text/html:
LOCATION:Bartlett Hills Golf Club 800 W. Onieda Bartlett\, IL 60103
UID:e.1147.293
SEQUENCE:3
DTSTAMP:20260422T021606Z
URL:https://business.bartlettareachamber.com/events/details/after-hours-village-of-bartlett-12-13-293
END:VEVENT

END:VCALENDAR
