BEGIN:VCALENDAR
VERSION:2.0
PRODID:-//ChamberMaster//Event Calendar 2.0//EN
METHOD:PUBLISH
X-PUBLISHED-TTL:P3D
REFRESH-INTERVAL:P3D
CALSCALE:GREGORIAN
BEGIN:VEVENT
DTSTART:20110614T220000Z
DTEND:20110615T000000Z
X-MICROSOFT-CDO-ALLDAYEVENT:FALSE
SUMMARY:After Hours - Bartlett Vision 06/11
DESCRIPTION:Bartlett Vision is hosting a Business After Hours! It will take place at their offices at 211 S. Main Street. Come by to "see" what they have to offer and to network with other chamber members.
X-ALT-DESC;FMTTYPE=text/html:<p>Bartlett Vision is hosting a Business After Hours! It will take place at their offices at 211 S. Main Street. Come by to &quot\;see&quot\; what they have to offer and to network with other chamber members.</p>\n
LOCATION:Bartlett Vision 211 S. Main Street Bartlett\, IL
UID:e.1147.40
SEQUENCE:3
DTSTAMP:20260423T033237Z
URL:https://business.bartlettareachamber.com/events/details/after-hours-bartlett-vision-06-11-40
END:VEVENT

END:VCALENDAR
